BEGIN:VCALENDAR
VERSION:2.0
PRODID:-//hacksw/handcal//NONSGML v1.0//EN
CALSCALE:GREGORIAN
BEGIN:VEVENT
ORGANIZER;CN=NetApp:MAILTO:no-reply@mail.gcs-web.com
DTEND:
UID:07ec8494-cf79-4fd2-a35f-adb61cc9131a
DTSTAMP:1622631811
LOCATION:https://edge.media-server.com/mmc/p/6z99qbvs
DESCRIPTION:Event Details http://investors.netapp.com/index.php/events/event-details/netapp-fourth-quarter-and-fiscal-year-2021-results\n\nWebcast: https://edge.media-server.com/mmc/p/6z99qbvs
URL;VALUE=URI:https://edge.media-server.com/mmc/p/6z99qbvs
SUMMARY:NetApp - NetApp Fourth Quarter and Fiscal Year 2021 Results
DTSTART:20210602T210000Z
END:VEVENT
END:VCALENDAR